BEGIN:VCALENDAR
VERSION:2.0
PRODID:-//wp-events-plugin.com//7.2.3.1//EN
TZID:Europe/Berlin
X-WR-TIMEZONE:Europe/Berlin
BEGIN:VEVENT
UID:19@montessori-sachsen.de
DTSTART;TZID=Europe/Berlin:20240316T143000
DTEND;TZID=Europe/Berlin:20240316T163000
DTSTAMP:20240108T083055Z
URL:https://montessori-sachsen.de/events/zahlvorstellung-ein-schillernder-
 begriff/
SUMMARY:Zahlvorstellung? – ein schillernder Begriff
DESCRIPTION:Zahlvorstellung? – ein schillernder Begriff\nMit dem etwas ne
 bulösen Begriff einer „mangelnden Zahlvorstellung“ werden gerne mathe
 matisch-didaktische Problemlagen erhoben und manchmal auch „verschoben
 “. Was aber verbirgt sich hinter einer solchen\, etwas pauschalen Zuschr
 eibung\, und wie sieht die daraus folgende „Therapie“\, also die mathe
 matische Grundlagenarbeit dazu aus? Neben einer Reihe von praktischen Vors
 chlägen soll auch der Erfahrungsaustausch der Teilnehmer stehen.\n\nWorks
 hop Nr. 17\nDozent: Alfons Weber\nChristliche Maria-Montessori-Grundschule
  Annaberg-Buchholz\n\nAnmeldeformular: - Einzel- und Sammelanmeldungen zu 
 den Workshops\nUnterschrieben gerne als Mailanhang an info(at)montessori-s
 achsen.de\noder an Postadresse\nAnmelde- und Überweisungsschluss sind der
  26.01.2024
CATEGORIES:E2
LOCATION:Raum wird bekannt gegeben\, -\, 09456 Annaberg-Buchholz \, Deutsch
 land
X-APPLE-STRUCTURED-LOCATION;VALUE=URI;X-ADDRESS=-\, 09456 Annaberg-Buchholz
  \, Deutschland;X-APPLE-RADIUS=100;X-TITLE=Raum wird bekannt gegeben:geo:0
 ,0
END:VEVENT
BEGIN:VTIMEZONE
TZID:Europe/Berlin
X-LIC-LOCATION:Europe/Berlin
BEGIN:STANDARD
DTSTART:20231029T020000
TZOFFSETFROM:+0200
TZOFFSETTO:+0100
TZNAME:CET
END:STANDARD
END:VTIMEZONE
END:VCALENDAR