BEGIN:VCALENDAR
VERSION:2.0
PRODID:-//wp-events-plugin.com//7.2.3.1//EN
TZID:Europe/Berlin
X-WR-TIMEZONE:Europe/Berlin
BEGIN:VEVENT
UID:26@montessori-sachsen.de
DTSTART;TZID=Europe/Berlin:20240316T100000
DTEND;TZID=Europe/Berlin:20240316T120000
DTSTAMP:20240108T083740Z
URL:https://montessori-sachsen.de/events/schule-leiten-im-verein/
SUMMARY:Schule leiten im Verein
DESCRIPTION:Schule leiten im Verein\, Vorstandsarbeit gemeinsam meistern\nB
 eschreibung:\nAustausch mit den Vorständen mit dem Ziel\, die eigene Arbe
 it zu reflektieren\, Aufgaben und mögliche Lösungen zu diskutieren und v
 on anderen profitieren\nVorstandsarbeit\, Personalführung\, Schulentwickl
 ung\n\nWorkshop Nr. 13\nDozentin: Anja Richter\nChristliche Maria-Montesso
 ri-Grundschule Annaberg-Buchholz\n\nAnmeldeformular: - Einzel- und Sammela
 nmeldungen zu den Workshops\nUnterschrieben gerne als Mailanhang an info(a
 t)montessori-sachsen.de\noder an Postadresse\nAnmelde- und Überweisungssc
 hluss sind der 26.01.2024
CATEGORIES:Vorstände
LOCATION:Raum wird bekannt gegeben\, -\, 09456 Annaberg-Buchholz \, Deutsch
 land
X-APPLE-STRUCTURED-LOCATION;VALUE=URI;X-ADDRESS=-\, 09456 Annaberg-Buchholz
  \, Deutschland;X-APPLE-RADIUS=100;X-TITLE=Raum wird bekannt gegeben:geo:0
 ,0
END:VEVENT
BEGIN:VTIMEZONE
TZID:Europe/Berlin
X-LIC-LOCATION:Europe/Berlin
BEGIN:STANDARD
DTSTART:20231029T020000
TZOFFSETFROM:+0200
TZOFFSETTO:+0100
TZNAME:CET
END:STANDARD
END:VTIMEZONE
END:VCALENDAR