BEGIN:VCALENDAR
VERSION:2.0
PRODID:-//wp-events-plugin.com//7.2.3.1//EN
TZID:Europe/Berlin
X-WR-TIMEZONE:Europe/Berlin
BEGIN:VEVENT
UID:6@montessori-sachsen.de
DTSTART;TZID=Europe/Berlin:20240316T100000
DTEND;TZID=Europe/Berlin:20240316T120000
DTSTAMP:20240108T083216Z
URL:https://montessori-sachsen.de/events/montessoris-jugendschule/
SUMMARY:Montessoris Jugendschule
DESCRIPTION:Montessoris Jugendschule\, Wege und Ideen zur Einführung des E
 rdkinderplans\nAusgehend von einer kurzen Skizze von Montessoris Idee zum 
 Erdkinderplan stellen wir vor\, welche Wege die EGE unternommen hat\, um d
 as Konzept an unserer Schule auf den Weg zu bringen. Wir wünschen uns ein
 en regen Austausch mit weiteren Interessierten rund um das Thema\, um die 
 Arbeit in diesem Bereich weiter voran zu bringen (für die EGE\, aber auch
  andere Schulen).\n\nWorkshop Nr. 9\nDozentin: Rosi Schmidt-Löschner\,\nE
 GE - Evangelische Schulgemeinschaft Erzgebirge e.V.\n\nAnmeldeformular: - 
 Einzel- und Sammelanmeldungen zu den Workshops\nUnterschrieben gerne als M
 ailanhang an info(at)montessori-sachsen.de\noder an Postadresse\nAnmelde- 
 und Überweisungsschluss sind der 26.01.2024
CATEGORIES:E3
LOCATION:Raum wird bekannt gegeben\, -\, 09456 Annaberg-Buchholz \, Deutsch
 land
X-APPLE-STRUCTURED-LOCATION;VALUE=URI;X-ADDRESS=-\, 09456 Annaberg-Buchholz
  \, Deutschland;X-APPLE-RADIUS=100;X-TITLE=Raum wird bekannt gegeben:geo:0
 ,0
END:VEVENT
BEGIN:VTIMEZONE
TZID:Europe/Berlin
X-LIC-LOCATION:Europe/Berlin
BEGIN:STANDARD
DTSTART:20231029T020000
TZOFFSETFROM:+0200
TZOFFSETTO:+0100
TZNAME:CET
END:STANDARD
END:VTIMEZONE
END:VCALENDAR