BEGIN:VCALENDAR
VERSION:2.0
PRODID:-//wp-events-plugin.com//7.2.3.1//EN
TZID:Europe/Berlin
X-WR-TIMEZONE:Europe/Berlin
BEGIN:VEVENT
UID:14@montessori-sachsen.de
DTSTART;TZID=Europe/Berlin:20240316T100000
DTEND;TZID=Europe/Berlin:20240316T120000
DTSTAMP:20240108T082644Z
URL:https://montessori-sachsen.de/events/montessoripaedagogik-und-gesunde-
 bewegungsentfaltung/
SUMMARY:Montessoripädagogik und gesunde Bewegungsentfaltung
DESCRIPTION:Montessoripädagogik und gesunde Bewegungsentfaltung\nBeschreib
 ung:\nArbeit mit den Hengstenberg-Geräten\n\nWorkshop Nr. 4\nDozentin: Sy
 lvia Schmiedl\nMontessorischule Annaberg\n\nAnmeldeformular: - Einzel- und
  Sammelanmeldungen zu den Workshops\nUnterschrieben gerne als Mailanhang a
 n info(at)montessori-sachsen.de\noder an Postadresse\nAnmelde- und Überwe
 isungsschluss sind der 26.01.2024
CATEGORIES:E1,E2
LOCATION:Raum wird bekannt gegeben\, -\, 09456 Annaberg-Buchholz \, Deutsch
 land
X-APPLE-STRUCTURED-LOCATION;VALUE=URI;X-ADDRESS=-\, 09456 Annaberg-Buchholz
  \, Deutschland;X-APPLE-RADIUS=100;X-TITLE=Raum wird bekannt gegeben:geo:0
 ,0
END:VEVENT
BEGIN:VTIMEZONE
TZID:Europe/Berlin
X-LIC-LOCATION:Europe/Berlin
BEGIN:STANDARD
DTSTART:20231029T020000
TZOFFSETFROM:+0200
TZOFFSETTO:+0100
TZNAME:CET
END:STANDARD
END:VTIMEZONE
END:VCALENDAR