BEGIN:VCALENDAR
VERSION:2.0
PRODID:-//wp-events-plugin.com//7.2.3.1//EN
TZID:Europe/Berlin
X-WR-TIMEZONE:Europe/Berlin
BEGIN:VEVENT
UID:17@montessori-sachsen.de
DTSTART;TZID=Europe/Berlin:20240316T100000
DTEND;TZID=Europe/Berlin:20240316T120000
DTSTAMP:20240108T082940Z
URL:https://montessori-sachsen.de/events/kosmische-erziehung/
SUMMARY:Kosmische Erziehung
DESCRIPTION:Kosmische Erziehung\nKursbeschreibung:\nUnser Kursangebot biete
 t die Gelegenheit\, die Zeitleiste der Hand kennenzulernen und Geschichten
  aus der Geschichte zu hören.\nWir werden uns auf Persönlichkeiten wie G
 utenberg\, Cranach\, Luther und Dürer konzentrieren und dabei verschieden
 e künstlerische Techniken vorstellen\, die zu Folgearbeiten einladen und 
 zur selbstständigen Arbeit anregen sollen.\n\nKursinhalte:\nZeitleisten d
 er Hand:\nNutzung der Zeitleisten\nArbeit mit der Bildermappe\nGeschichten
  aus der Geschichte\n\nKreative Folgearbeiten:\nSchrift drucken\nAquarelli
 eren\nHerstellung von Monotypien\nKalligrafie\n\nWorkshop Nr. 7\nDozenten:
  Katharina Kästel Sasse\, Oliver Winkel und Ann Hohenstein\nMontessori Ob
 erschule Chemnitz\n\nAnmeldeformular: - Einzel- und Sammelanmeldungen zu d
 en Workshops\nUnterschrieben gerne als Mailanhang an info(at)montessori-sa
 chsen.de\noder an Postadresse\nAnmelde- und Überweisungsschluss sind der 
 26.01.2024
CATEGORIES:E2
LOCATION:Raum wird bekannt gegeben\, -\, 09456 Annaberg-Buchholz \, Deutsch
 land
X-APPLE-STRUCTURED-LOCATION;VALUE=URI;X-ADDRESS=-\, 09456 Annaberg-Buchholz
  \, Deutschland;X-APPLE-RADIUS=100;X-TITLE=Raum wird bekannt gegeben:geo:0
 ,0
END:VEVENT
BEGIN:VTIMEZONE
TZID:Europe/Berlin
X-LIC-LOCATION:Europe/Berlin
BEGIN:STANDARD
DTSTART:20231029T020000
TZOFFSETFROM:+0200
TZOFFSETTO:+0100
TZNAME:CET
END:STANDARD
END:VTIMEZONE
END:VCALENDAR