BEGIN:VCALENDAR
VERSION:2.0
PRODID:-//wp-events-plugin.com//7.2.3.1//EN
TZID:Europe/Berlin
X-WR-TIMEZONE:Europe/Berlin
BEGIN:VEVENT
UID:8@montessori-sachsen.de
DTSTART;TZID=Europe/Berlin:20240316T100000
DTEND;TZID=Europe/Berlin:20240316T120000
DTSTAMP:20240108T083441Z
URL:https://montessori-sachsen.de/events/globales-lernen/
SUMMARY:Globales Lernen
DESCRIPTION:Globales Lernen – Montessori &amp\; die Bildung für nachhalt
 ige Entwicklung\n„Abkürzungen wie BNE und SDG sagen euch noch nichts? D
 ann fühlt euch gern eingeladen zum Workshop: Montessori &amp\; BNE. Wir s
 prechen über die Vision des Friedens von Maria Montessori – und die Not
 wendigkeit die Themen Nachhaltigkeit sowie Globales Lernen in den Montesso
 rischulen zu besprechen und zu leben. Dabei entdecken wir Potentiale und H
 ürden\, sammeln Ideen und Lösungen – und schauen uns an\, was es für 
 Kooperationspartner:innen gibt. Was das alles mit der ‚\nSächsischen La
 ndesstrategie Bildung für Nachhaltige Entwicklung zu tun hat\, werden wir
  sehen. Das Angebot richtet sich an Pädagog:innen aller Entwicklungsphase
 n =&gt\; je diverser desto besser.\n#Friedensvision_Montessori #BNE #SDGs\
 n\nWorkshop Nr. 10\nDozent: Philipp Elek\nFreie Montessorischule Huckepack
  e.V. - Dresden\n\nAnmeldeformular: - Einzel- und Sammelanmeldungen zu den
  Workshops\nUnterschrieben gerne als Mailanhang an info(at)montessori-sach
 sen.de\noder an Postadresse\nAnmelde- und Überweisungsschluss sind der 26
 .01.2024
CATEGORIES:E1/2/3
LOCATION:Raum wird bekannt gegeben\, -\, 09456 Annaberg-Buchholz \, Deutsch
 land
X-APPLE-STRUCTURED-LOCATION;VALUE=URI;X-ADDRESS=-\, 09456 Annaberg-Buchholz
  \, Deutschland;X-APPLE-RADIUS=100;X-TITLE=Raum wird bekannt gegeben:geo:0
 ,0
END:VEVENT
BEGIN:VTIMEZONE
TZID:Europe/Berlin
X-LIC-LOCATION:Europe/Berlin
BEGIN:STANDARD
DTSTART:20231029T020000
TZOFFSETFROM:+0200
TZOFFSETTO:+0100
TZNAME:CET
END:STANDARD
END:VTIMEZONE
END:VCALENDAR