BEGIN:VCALENDAR
VERSION:2.0
PRODID:-//wp-events-plugin.com//7.2.3.1//EN
TZID:Europe/Berlin
X-WR-TIMEZONE:Europe/Berlin
BEGIN:VEVENT
UID:11@montessori-sachsen.de
DTSTART;TZID=Europe/Berlin:20240316T100000
DTEND;TZID=Europe/Berlin:20240316T120000
DTSTAMP:20240108T082826Z
URL:https://montessori-sachsen.de/events/gehen-auf-der-linie-stilleuebunge
 n/
SUMMARY:Gehen auf der Linie - Stilleübungen
DESCRIPTION:Gehen auf der Linie - Stilleübungen\nBeschreibung:\nWird bekan
 nt gegeben\n\nWorkshop Nr. 2\nDozentin: Katrin Fellenberg\nMontessori-Kita
  "Villa Kunterbunt"\, Leipzig\n\nAnmeldeformular: - Einzel- und Sammelanme
 ldungen zu den Workshops\nUnterschrieben gerne als Mailanhang an info(at)m
 ontessori-sachsen.de\noder an Postadresse\nAnmelde- und Überweisungsschlu
 ss sind der 26.01.2024
CATEGORIES:E1
LOCATION:Raum wird bekannt gegeben\, -\, 09456 Annaberg-Buchholz \, Deutsch
 land
X-APPLE-STRUCTURED-LOCATION;VALUE=URI;X-ADDRESS=-\, 09456 Annaberg-Buchholz
  \, Deutschland;X-APPLE-RADIUS=100;X-TITLE=Raum wird bekannt gegeben:geo:0
 ,0
END:VEVENT
BEGIN:VTIMEZONE
TZID:Europe/Berlin
X-LIC-LOCATION:Europe/Berlin
BEGIN:STANDARD
DTSTART:20231029T020000
TZOFFSETFROM:+0200
TZOFFSETTO:+0100
TZNAME:CET
END:STANDARD
END:VTIMEZONE
END:VCALENDAR