BEGIN:VCALENDAR
VERSION:2.0
PRODID:-//wp-events-plugin.com//7.2.3.1//EN
TZID:Europe/Berlin
X-WR-TIMEZONE:Europe/Berlin
BEGIN:VEVENT
UID:22@montessori-sachsen.de
DTSTART;TZID=Europe/Berlin:20240316T143000
DTEND;TZID=Europe/Berlin:20240316T163000
DTSTAMP:20240306T104112Z
URL:https://montessori-sachsen.de/events/erfahrungen-auf-dem-weg-zum-qr-si
 egel-des-bundesverbandes/
SUMMARY:Erfahrungen auf dem Weg zum QR-Siegel des Bundesverbandes
DESCRIPTION:Erfahrungen auf dem Weg zum QR-Siegel des Bundesverbandes\nBesc
 hreibung:\nWird bekannt gegeben\n\nWorkshop Nr. 23\nDozentin: Sarah DeWolf
 \nRegensburger Montessori Institut\n\nAnmeldeformular: - Einzel- und Samme
 lanmeldungen zu den Workshops\nUnterschrieben gerne als Mailanhang an info
 (at)montessori-sachsen.de\noder an Postadresse\nAnmelde- und Überweisungs
 schluss sind der 26.01.2024
CATEGORIES:E1/2/3
LOCATION:Raum wird bekannt gegeben\, -\, 09456 Annaberg-Buchholz \, Deutsch
 land
X-APPLE-STRUCTURED-LOCATION;VALUE=URI;X-ADDRESS=-\, 09456 Annaberg-Buchholz
  \, Deutschland;X-APPLE-RADIUS=100;X-TITLE=Raum wird bekannt gegeben:geo:0
 ,0
END:VEVENT
BEGIN:VTIMEZONE
TZID:Europe/Berlin
X-LIC-LOCATION:Europe/Berlin
BEGIN:STANDARD
DTSTART:20231029T020000
TZOFFSETFROM:+0200
TZOFFSETTO:+0100
TZNAME:CET
END:STANDARD
END:VTIMEZONE
END:VCALENDAR