BEGIN:VCALENDAR
VERSION:2.0
PRODID:-//wp-events-plugin.com//7.2.3.1//EN
TZID:Europe/Berlin
X-WR-TIMEZONE:Europe/Berlin
BEGIN:VEVENT
UID:23@montessori-sachsen.de
DTSTART;TZID=Europe/Berlin:20240316T143000
DTEND;TZID=Europe/Berlin:20240316T163000
DTSTAMP:20240108T083709Z
URL:https://montessori-sachsen.de/events/achtsamkeit-in-der-bildung/
SUMMARY:Achtsamkeit in der Bildung
DESCRIPTION:Achtsamkeit in der Bildung\nWas kann Achtsamkeit in der Bildung
 ? / Wie fühlt sich Achtsamkeit an? (Übungen) / Wie kann ich Achtsamkeit 
 in meinen Arbeitsalltag integrieren? / Wir nähern uns dem Thema mit prakt
 ischen Übungen\, bestehend aus Meditationen und Reflexionen. Die Übungen
  und der Umgang mit ihnen sind Bestandteile des MBSR Kursprogramms nach Jo
 n Kabat Zinn (Achtsamkeitsbasierte Stressreduktion).\nbenötigt:\nBequeme 
 Kleidung während der Teilnahme ist von Vorteil!\n\nWorkshop Nr. 25\nDozen
 t: Maik Wieden\nFreie Montessorischule Huckepack e.V.\n\nAnmeldeformular: 
 - Einzel- und Sammelanmeldungen zu den Workshops\nUnterschrieben gerne als
  Mailanhang an info(at)montessori-sachsen.de\noder an Postadresse\nAnmelde
 - und Überweisungsschluss sind der 26.01.2024
CATEGORIES:E1/2/3
LOCATION:Raum wird bekannt gegeben\, -\, 09456 Annaberg-Buchholz \, Deutsch
 land
X-APPLE-STRUCTURED-LOCATION;VALUE=URI;X-ADDRESS=-\, 09456 Annaberg-Buchholz
  \, Deutschland;X-APPLE-RADIUS=100;X-TITLE=Raum wird bekannt gegeben:geo:0
 ,0
END:VEVENT
BEGIN:VTIMEZONE
TZID:Europe/Berlin
X-LIC-LOCATION:Europe/Berlin
BEGIN:STANDARD
DTSTART:20231029T020000
TZOFFSETFROM:+0200
TZOFFSETTO:+0100
TZNAME:CET
END:STANDARD
END:VTIMEZONE
END:VCALENDAR